BEGIN:VCALENDAR
VERSION:2.0
PRODID:-//www.seedorf.ch//NONSGML kigkonsult.se iCalcreator 2.22//
CALSCALE:GREGORIAN
METHOD:PUBLISH
X-WR-TIMEZONE:Europe/Berlin
BEGIN:VEVENT
UID:20260423T140751CEST-1061M99pIZ@www.seedorf.ch
DTSTAMP:20260423T120751Z
DESCRIPTION:Klicken Sie auf den folgenden Link\, um weitere Informationen z
 ur Veranstaltung zu erhalten:\nhttp://www.seedorf.ch/de/veranstaltungen/de
 tail/detail.php?i=504
DTSTART:20260503T090000
DTEND:20260503T133000
LOCATION:Postautohaltestelle 
SUMMARY:Frühlingswanderung
END:VEVENT
END:VCALENDAR
