BEGIN:VCALENDAR
VERSION:2.0
PRODID:-//www.seedorf.ch//NONSGML kigkonsult.se iCalcreator 2.22//
CALSCALE:GREGORIAN
METHOD:PUBLISH
X-WR-TIMEZONE:Europe/Berlin
BEGIN:VEVENT
UID:20260423T140920CEST-5630xvR1Wk@www.seedorf.ch
DTSTAMP:20260423T120920Z
DESCRIPTION:Klicken Sie auf den folgenden Link\, um weitere Informationen z
 ur Veranstaltung zu erhalten:\nhttp://www.seedorf.ch/de/veranstaltungen/de
 tail/detail.php?i=505
DTSTART:20260511T190000
DTEND:20260511T203000
LOCATION:MZH Seedorf
SUMMARY:Infoveranstaltung Energiezukunft Seedorf
END:VEVENT
END:VCALENDAR
